   BEGIN:VCALENDAR
VERSION:2.0
PRODID:-//Moorside Primary School and Nursery - ECPv6.11.0.1//NONSGML v1.0//EN
CALSCALE:GREGORIAN
METHOD:PUBLISH
X-ORIGINAL-URL:https://www.moorsideschools.org.uk
X-WR-CALDESC:Events for Moorside Primary School and Nursery
REFRESH-INTERVAL;VALUE=DURATION:PT1H
X-Robots-Tag:noindex
X-PUBLISHED-TTL:PT1H
BEGIN:VTIMEZONE
TZID:UTC
BEGIN:STANDARD
TZOFFSETFROM:+0000
TZOFFSETTO:+0000
TZNAME:UTC
DTSTART:20190101T000000
END:STANDARD
END:VTIMEZONE
BEGIN:VEVENT
DTSTART;TZID=UTC:20190715T140000
DTEND;TZID=UTC:20190716T140000
DTSTAMP:20260424T225756
CREATED:20190520T152757Z
LAST-MODIFIED:20190520T152757Z
UID:2101-1563199200-1563285600@www.moorsideschools.org.uk
SUMMARY:KS2 Production
DESCRIPTION:
URL:https://www.moorsideschools.org.uk/event/ks2-production/
END:VEVENT
BEGIN:VEVENT
DTSTART;TZID=UTC:20190716T103000
DTEND;TZID=UTC:20190716T110000
DTSTAMP:20260424T225756
CREATED:20190624T141734Z
LAST-MODIFIED:20190624T141734Z
UID:2295-1563273000-1563274800@www.moorsideschools.org.uk
SUMMARY:Nursery Sports Day - 10.30am
DESCRIPTION:
URL:https://www.moorsideschools.org.uk/event/nursery-sports-day-10-30am/
END:VEVENT
END:VCALENDAR