   BEGIN:VCALENDAR
VERSION:2.0
PRODID:-//Moorside Primary School and Nursery - ECPv6.11.0.1//NONSGML v1.0//EN
CALSCALE:GREGORIAN
METHOD:PUBLISH
X-WR-CALNAME:Moorside Primary School and Nursery
X-ORIGINAL-URL:https://www.moorsideschools.org.uk
X-WR-CALDESC:Events for Moorside Primary School and Nursery
REFRESH-INTERVAL;VALUE=DURATION:PT1H
X-Robots-Tag:noindex
X-PUBLISHED-TTL:PT1H
BEGIN:VTIMEZONE
TZID:UTC
BEGIN:STANDARD
TZOFFSETFROM:+0000
TZOFFSETTO:+0000
TZNAME:UTC
DTSTART:20190101T000000
END:STANDARD
END:VTIMEZONE
BEGIN:VEVENT
DTSTART;TZID=UTC:20190627T080000
DTEND;TZID=UTC:20190627T170000
DTSTAMP:20260424T235841
CREATED:20190520T152444Z
LAST-MODIFIED:20190520T152444Z
UID:2095-1561622400-1561654800@www.moorsideschools.org.uk
SUMMARY:Transition Meeting for New Reception Parents
DESCRIPTION:
URL:https://www.moorsideschools.org.uk/event/transition-meeting-for-new-reception-parents/
END:VEVENT
BEGIN:VEVENT
DTSTART;TZID=UTC:20190627T140000
DTEND;TZID=UTC:20190627T143000
DTSTAMP:20260424T235841
CREATED:20190603T154741Z
LAST-MODIFIED:20190603T154741Z
UID:2137-1561644000-1561645800@www.moorsideschools.org.uk
SUMMARY:KS1 Showcase at 2pm
DESCRIPTION:
URL:https://www.moorsideschools.org.uk/event/ks1-showcase-at-2pm/
END:VEVENT
END:VCALENDAR