   BEGIN:VCALENDAR
VERSION:2.0
PRODID:-//Moorside Primary School and Nursery - ECPv6.11.0.1//NONSGML v1.0//EN
CALSCALE:GREGORIAN
METHOD:PUBLISH
X-ORIGINAL-URL:https://www.moorsideschools.org.uk
X-WR-CALDESC:Events for Moorside Primary School and Nursery
REFRESH-INTERVAL;VALUE=DURATION:PT1H
X-Robots-Tag:noindex
X-PUBLISHED-TTL:PT1H
BEGIN:VTIMEZONE
TZID:UTC
BEGIN:STANDARD
TZOFFSETFROM:+0000
TZOFFSETTO:+0000
TZNAME:UTC
DTSTART:20190101T000000
END:STANDARD
END:VTIMEZONE
BEGIN:VEVENT
DTSTART;TZID=UTC:20190624T152000
DTEND;TZID=UTC:20190624T160000
DTSTAMP:20260424T235935
CREATED:20190617T145414Z
LAST-MODIFIED:20190617T145414Z
UID:2279-1561389600-1561392000@www.moorsideschools.org.uk
SUMMARY:Y6 Parent Information Evening for London Trip
DESCRIPTION:  \n 
URL:https://www.moorsideschools.org.uk/event/y6-parent-information-evening-for-london-trip/
END:VEVENT
END:VCALENDAR