   BEGIN:VCALENDAR
VERSION:2.0
PRODID:-//Moorside Primary School and Nursery - ECPv6.11.0.1//NONSGML v1.0//EN
CALSCALE:GREGORIAN
METHOD:PUBLISH
X-ORIGINAL-URL:https://www.moorsideschools.org.uk
X-WR-CALDESC:Events for Moorside Primary School and Nursery
REFRESH-INTERVAL;VALUE=DURATION:PT1H
X-Robots-Tag:noindex
X-PUBLISHED-TTL:PT1H
BEGIN:VTIMEZONE
TZID:UTC
BEGIN:STANDARD
TZOFFSETFROM:+0000
TZOFFSETTO:+0000
TZNAME:UTC
DTSTART:20190101T000000
END:STANDARD
END:VTIMEZONE
BEGIN:VEVENT
DTSTART;TZID=UTC:20190617T090000
DTEND;TZID=UTC:20190621T150000
DTSTAMP:20260424T235859
CREATED:20190603T154625Z
LAST-MODIFIED:20190603T154625Z
UID:2135-1560762000-1561129200@www.moorsideschools.org.uk
SUMMARY:Refugee Week
DESCRIPTION:
URL:https://www.moorsideschools.org.uk/event/refugee-week/
END:VEVENT
END:VCALENDAR