   BEGIN:VCALENDAR
VERSION:2.0
PRODID:-//Moorside Primary School and Nursery - ECPv6.11.0.1//NONSGML v1.0//EN
CALSCALE:GREGORIAN
METHOD:PUBLISH
X-WR-CALNAME:Moorside Primary School and Nursery
X-ORIGINAL-URL:https://www.moorsideschools.org.uk
X-WR-CALDESC:Events for Moorside Primary School and Nursery
REFRESH-INTERVAL;VALUE=DURATION:PT1H
X-Robots-Tag:noindex
X-PUBLISHED-TTL:PT1H
BEGIN:VTIMEZONE
TZID:UTC
BEGIN:STANDARD
TZOFFSETFROM:+0000
TZOFFSETTO:+0000
TZNAME:UTC
DTSTART:20190101T000000
END:STANDARD
END:VTIMEZONE
BEGIN:VEVENT
DTSTART;TZID=UTC:20190430T152000
DTEND;TZID=UTC:20190430T160000
DTSTAMP:20260425T010252
CREATED:20190503T125341Z
LAST-MODIFIED:20190503T125341Z
UID:1945-1556637600-1556640000@www.moorsideschools.org.uk
SUMMARY:Reading Cafes from 3.20pm
DESCRIPTION:
URL:https://www.moorsideschools.org.uk/event/reading-cafes-from-3-20pm/
END:VEVENT
END:VCALENDAR