   BEGIN:VCALENDAR
VERSION:2.0
PRODID:-//Moorside Primary School and Nursery - ECPv6.11.0.1//NONSGML v1.0//EN
CALSCALE:GREGORIAN
METHOD:PUBLISH
X-WR-CALNAME:Moorside Primary School and Nursery
X-ORIGINAL-URL:https://www.moorsideschools.org.uk
X-WR-CALDESC:Events for Moorside Primary School and Nursery
REFRESH-INTERVAL;VALUE=DURATION:PT1H
X-Robots-Tag:noindex
X-PUBLISHED-TTL:PT1H
BEGIN:VTIMEZONE
TZID:UTC
BEGIN:STANDARD
TZOFFSETFROM:+0000
TZOFFSETTO:+0000
TZNAME:UTC
DTSTART:20190101T000000
END:STANDARD
END:VTIMEZONE
BEGIN:VEVENT
DTSTART;TZID=UTC:20190429T085000
DTEND;TZID=UTC:20190429T090000
DTSTAMP:20260425T010252
CREATED:20190304T161521Z
LAST-MODIFIED:20190306T093233Z
UID:1726-1556527800-1556528400@www.moorsideschools.org.uk
SUMMARY:Return to School for Summer term
DESCRIPTION:
URL:https://www.moorsideschools.org.uk/event/return-to-school-for-summer-term/
END:VEVENT
BEGIN:VEVENT
DTSTART;TZID=UTC:20190429T134500
DTEND;TZID=UTC:20190429T170000
DTSTAMP:20260425T010252
CREATED:20190408T153340Z
LAST-MODIFIED:20190408T153401Z
UID:1856-1556545500-1556557200@www.moorsideschools.org.uk
SUMMARY:AMALGAMATION CELEBRATION!! from 1.45pm
DESCRIPTION:
URL:https://www.moorsideschools.org.uk/event/amalgamation-celebration-from-1-45pm/
END:VEVENT
END:VCALENDAR