   BEGIN:VCALENDAR
VERSION:2.0
PRODID:-//Moorside Primary School and Nursery - ECPv6.11.0.1//NONSGML v1.0//EN
CALSCALE:GREGORIAN
METHOD:PUBLISH
X-WR-CALNAME:Moorside Primary School and Nursery
X-ORIGINAL-URL:https://www.moorsideschools.org.uk
X-WR-CALDESC:Events for Moorside Primary School and Nursery
REFRESH-INTERVAL;VALUE=DURATION:PT1H
X-Robots-Tag:noindex
X-PUBLISHED-TTL:PT1H
BEGIN:VTIMEZONE
TZID:UTC
BEGIN:STANDARD
TZOFFSETFROM:+0000
TZOFFSETTO:+0000
TZNAME:UTC
DTSTART:20190101T000000
END:STANDARD
END:VTIMEZONE
BEGIN:VEVENT
DTSTART;TZID=UTC:20190412T090000
DTEND;TZID=UTC:20190412T093000
DTSTAMP:20260425T021018
CREATED:20190408T153225Z
LAST-MODIFIED:20190408T153225Z
UID:1854-1555059600-1555061400@www.moorsideschools.org.uk
SUMMARY:Year 3 & 4 Showcase at 9.00am
DESCRIPTION:
URL:https://www.moorsideschools.org.uk/event/year-3-4-showcase-at-9-00am/
END:VEVENT
BEGIN:VEVENT
DTSTART;TZID=UTC:20190412T150000
DTEND;TZID=UTC:20190412T150000
DTSTAMP:20260425T021018
CREATED:20190304T161423Z
LAST-MODIFIED:20190304T161423Z
UID:1724-1555081200-1555081200@www.moorsideschools.org.uk
SUMMARY:Break-up at 3.00pm for Easter Holidays
DESCRIPTION:
URL:https://www.moorsideschools.org.uk/event/break-up-at-3-00pm-for-easter-holidays/
END:VEVENT
END:VCALENDAR